BEGIN:VCALENDAR
VERSION:2.0
PRODID:-//Intand Corporation//Tandem//EN
METHOD:PUBLISH
BEGIN:VEVENT
DTSTAMP:20260421T140502Z
DTSTART:20251111T220000Z
DTEND:20251112T020000Z
TRANSP:TRANSPARENT
PRIORITY:0
SUMMARY:PAC - City of Flags Rehearsal
LOCATION:Canton South High School > Performing Arts Center
DESCRIPTION:Schools:\nCanton South High School\n\nLocation:\nCanton South 
 High School > Performing Arts Center\n\n
URL;VALUE=URI:http://arts.cantonlocalschooldistrict.tandem.co/index.php?ty
 pe=view&action=event&id=23612
CREATED:20241220T195530Z
LAST-MODIFIED:20250918T171848Z
UID:event-23612-cantonlocalathleticdepartment@intand.com
END:VEVENT
END:VCALENDAR
