BEGIN:VCALENDAR
VERSION:2.0
PRODID:-//Intand Corporation//Tandem//EN
METHOD:PUBLISH
BEGIN:VEVENT
DTSTAMP:20260419T182704Z
DTSTART:20260505T220000Z
DTEND:20260505T233000Z
TRANSP:TRANSPARENT
PRIORITY:0
SUMMARY:FMES Cafe - Girl Scouts
LOCATION:Faircrest Memorial Elementary School > Cafeteria
DESCRIPTION:Submitted By: Ciera Mills Email: cieramae1592@gmail.com Phone:
  (330) 806-1037\n\n\nSchools:\nCanton South Middle School\n\nLocation:\nFa
 ircrest Memorial Elementary School > Cafeteria\n\n
X-ALT-DESC;FMTTYPE=text/html:<!doctype html><html><body><strong data-start
 ="59" data-end="76">Submitted By:</strong> Ciera Mills<br data-start="88" 
 data-end="91" /> <strong data-start="91" data-end="101">Email:</strong> <a
  class="cursor-pointer" rel="noopener" data-start="102" data-end="124">cie
 ramae1592@gmail.com</a><br data-start="124" data-end="127" /> <strong data
 -start="127" data-end="137">Phone:</strong> (330) 806-1037<br /><br />Scho
 ols:<br />Canton South Middle School<br /><br />Location:<br />Faircrest M
 emorial Elementary School > Cafeteria<br /></body></html>
URL;VALUE=URI:http://arts.cantonlocalschooldistrict.tandem.co/index.php?ty
 pe=view&action=event&id=24800
CREATED:20250530T124151Z
LAST-MODIFIED:20250530T124151Z
UID:event-24800-cantonlocalathleticdepartment@intand.com
END:VEVENT
END:VCALENDAR
