BEGIN:VCALENDAR
VERSION:2.0
PRODID:-//Intand Corporation//Tandem//EN
METHOD:PUBLISH
BEGIN:VEVENT
DTSTAMP:20260421T141008Z
DTSTART:20251103T200000Z
DTEND:20251104T030000Z
TRANSP:TRANSPARENT
PRIORITY:0
SUMMARY:Tarzan Dress Rehearsal #1 
LOCATION:Canton South High School > Performing Arts Center
DESCRIPTION:Schools:\nCanton South High School\n\nLocation:\nCanton South 
 High School > Performing Arts Center\n\n
URL;VALUE=URI:http://arts.cantonlocalschooldistrict.tandem.co/index.php?ty
 pe=view&action=event&id=25417
CREATED:20250819T005840Z
LAST-MODIFIED:20250819T114759Z
UID:event_request-25417-cantonlocalathleticdepartment@intand.com
END:VEVENT
END:VCALENDAR
