BEGIN:VCALENDAR
VERSION:2.0
PRODID:-//Intand Corporation//Tandem//EN
METHOD:PUBLISH
BEGIN:VEVENT
DTSTAMP:20260421T141019Z
DTSTART:20250904T190000Z
DTEND:20250904T210000Z
TRANSP:TRANSPARENT
PRIORITY:0
SUMMARY:Tarzan Callbacks
LOCATION:Canton South High School > Performing Arts Center
DESCRIPTION:Schools:\nCanton South High School\n\nLocation:\nCanton South 
 High School > Performing Arts Center\n\n
URL;VALUE=URI:http://arts.cantonlocalschooldistrict.tandem.co/index.php?ty
 pe=view&action=event&id=25422
CREATED:20250819T015657Z
LAST-MODIFIED:20250819T115539Z
UID:event_request-25422-cantonlocalathleticdepartment@intand.com
END:VEVENT
END:VCALENDAR
