BEGIN:VCALENDAR
VERSION:2.0
PRODID:-//Intand Corporation//Tandem//EN
METHOD:PUBLISH
BEGIN:VEVENT
DTSTAMP:20260419T144754Z
DTSTART:20260521T113000Z
DTEND:20260521T150000Z
TRANSP:TRANSPARENT
PRIORITY:0
SUMMARY:PAC - Sr Awards
LOCATION:Canton South High School > Performing Arts Center
DESCRIPTION:Groups:\nCSHS Counselors\n\nSchools:\nCanton South High School
 \n\nLocation:\nCanton South High School > Performing Arts Center\n\n
URL;VALUE=URI:http://arts.cantonlocalschooldistrict.tandem.co/index.php?ty
 pe=view&action=event&id=25517
CREATED:20250901T194142Z
LAST-MODIFIED:20250902T114257Z
UID:event_request-25517-cantonlocalathleticdepartment@intand.com
END:VEVENT
END:VCALENDAR
