BEGIN:VCALENDAR
VERSION:2.0
PRODID:-//Intand Corporation//Tandem//EN
METHOD:PUBLISH
BEGIN:VEVENT
DTSTAMP:20260419T182722Z
DTSTART:20260506T150000Z
DTEND:20260506T160000Z
TRANSP:TRANSPARENT
PRIORITY:0
SUMMARY:Comm Rm - Wildcat Student Voice
LOCATION:Canton South High School > Community Room
DESCRIPTION:Location:\nCanton South High School > Community Room\n\nContac
 ts:\nMelissa Kalb\n\n
URL;VALUE=URI:http://arts.cantonlocalschooldistrict.tandem.co/index.php?ty
 pe=view&action=event&id=25999
CREATED:20251003T124437Z
LAST-MODIFIED:20251003T124437Z
UID:event-25999-cantonlocalathleticdepartment@intand.com
END:VEVENT
END:VCALENDAR
