BEGIN:VCALENDAR
VERSION:2.0
PRODID:-//Intand Corporation//Tandem//EN
METHOD:PUBLISH
BEGIN:VEVENT
DTSTAMP:20260419T145759Z
DTSTART:20260606T160000Z
DTEND:20260606T190000Z
TRANSP:TRANSPARENT
PRIORITY:0
SUMMARY:PAC Rental - Revival Dance Co Recital
LOCATION:Canton South High School > Performing Arts Center\, Canton South 
 High School > Community Room
DESCRIPTION:Schools:\nCanton South High School\n\nLocations:\nCanton South
  High School > Performing Arts Center\nCanton South High School > Communit
 y Room\n\n
URL;VALUE=URI:http://arts.cantonlocalschooldistrict.tandem.co/index.php?ty
 pe=view&action=event&id=26188
CREATED:20251008T135419Z
LAST-MODIFIED:20260417T180920Z
UID:event-26188-cantonlocalathleticdepartment@intand.com
END:VEVENT
END:VCALENDAR
