BEGIN:VCALENDAR
VERSION:2.0
PRODID:-//Intand Corporation//Tandem//EN
METHOD:PUBLISH
BEGIN:VEVENT
DTSTAMP:20260421T140503Z
DTSTART:20251117T230000Z
DTEND:20251118T010000Z
TRANSP:TRANSPARENT
PRIORITY:0
SUMMARY:PAC- Fall Sports Banquet
LOCATION:Canton South High School > Performing Arts Center
DESCRIPTION:Groups:\nAthletic Department\n\nSchools:\nCanton South High Sc
 hool\n\nLocation:\nCanton South High School > Performing Arts Center\n\n
URL;VALUE=URI:http://arts.cantonlocalschooldistrict.tandem.co/index.php?ty
 pe=view&action=event&id=26376
CREATED:20251015T131056Z
LAST-MODIFIED:20251015T131340Z
UID:event-26376-cantonlocalathleticdepartment@intand.com
END:VEVENT
END:VCALENDAR
