BEGIN:VCALENDAR
VERSION:2.0
PRODID:-//Intand Corporation//Tandem//EN
METHOD:PUBLISH
BEGIN:VEVENT
DTSTAMP:20260419T181737Z
DTSTART:20260421T213000Z
DTEND:20260422T010000Z
TRANSP:TRANSPARENT
PRIORITY:0
SUMMARY:FMES Gym- Youth Softball Practice
LOCATION:Faircrest Memorial Elementary School > Gym
DESCRIPTION:Groups:\nYouth Softball\n\nSchools:\nCanton South Middle Schoo
 l\n\nLocation:\nFaircrest Memorial Elementary School > Gym\n\n
URL;VALUE=URI:http://arts.cantonlocalschooldistrict.tandem.co/index.php?ty
 pe=view&action=event&id=26547
CREATED:20251114T150924Z
LAST-MODIFIED:20251114T150924Z
UID:event-26547-cantonlocalathleticdepartment@intand.com
END:VEVENT
END:VCALENDAR
