BEGIN:VCALENDAR
VERSION:2.0
PRODID:-//Intand Corporation//Tandem//EN
METHOD:PUBLISH
BEGIN:VEVENT
DTSTAMP:20260419T180746Z
DTSTART:20260504T210000Z
DTEND:20260505T000000Z
TRANSP:TRANSPARENT
PRIORITY:0
SUMMARY:Varsity Baseball @ Orrville
LOCATION:Orrville High School
DESCRIPTION:Groups:\nCanton S HS Baseball\n\nSchools:\nCanton South High S
 chool\n\nLocation:\nOrrville High School\n\n
URL;VALUE=URI:http://arts.cantonlocalschooldistrict.tandem.co/index.php?ty
 pe=view&action=event&id=26688
CREATED:20251209T150959Z
LAST-MODIFIED:20251209T150959Z
UID:event-26688-cantonlocalathleticdepartment@intand.com
END:VEVENT
END:VCALENDAR
