BEGIN:VCALENDAR
VERSION:2.0
PRODID:-//Intand Corporation//Tandem//EN
METHOD:PUBLISH
BEGIN:VEVENT
DTSTAMP:20260419T210150Z
DTSTART:20260514T210000Z
DTEND:20260515T000000Z
TRANSP:TRANSPARENT
PRIORITY:0
SUMMARY:JV Baseball @ Marlington
LOCATION:MARLINGTON HIGH SCHOOL
DESCRIPTION:Groups:\nJV Baseball\n\nSchools:\nMARLINGTON HIGH SCHOOL\nCant
 on South High School\n\nLocation:\nMARLINGTON HIGH SCHOOL\n\n
URL;VALUE=URI:http://arts.cantonlocalschooldistrict.tandem.co/index.php?ty
 pe=view&action=event&id=26710
CREATED:20251209T152623Z
LAST-MODIFIED:20251209T152623Z
UID:event-26710-cantonlocalathleticdepartment@intand.com
END:VEVENT
END:VCALENDAR
