BEGIN:VCALENDAR
VERSION:2.0
PRODID:-//Intand Corporation//Tandem//EN
METHOD:PUBLISH
BEGIN:VEVENT
DTSTAMP:20260419T180746Z
DTSTART:20260422T203000Z
DTEND:20260423T003000Z
TRANSP:TRANSPARENT
PRIORITY:0
SUMMARY:Stadium- MS Track vs Manchester
LOCATION:Canton South High School > Brechbuhler Stadium
DESCRIPTION:Groups:\nCSMS Track\n\nSchools:\nCanton South High School\nCan
 ton South Middle School\n\nLocation:\nCanton South High School > Brechbuhl
 er Stadium\n\n
URL;VALUE=URI:http://arts.cantonlocalschooldistrict.tandem.co/index.php?ty
 pe=view&action=event&id=26724
CREATED:20251209T153609Z
LAST-MODIFIED:20251209T153609Z
UID:event-26724-cantonlocalathleticdepartment@intand.com
END:VEVENT
END:VCALENDAR
