BEGIN:VCALENDAR
VERSION:2.0
PRODID:-//Intand Corporation//Tandem//EN
METHOD:PUBLISH
BEGIN:VEVENT
DTSTAMP:20260419T175744Z
DTSTART:20260427T210000Z
DTEND:20260428T000000Z
TRANSP:TRANSPARENT
PRIORITY:0
SUMMARY:JV Softball @ Manchester
LOCATION:Manchester High School
DESCRIPTION:Groups:\nJV Softball\n\nSchools:\nCanton South High School\n\n
 Location:\nManchester High School\n\n
URL;VALUE=URI:http://arts.cantonlocalschooldistrict.tandem.co/index.php?ty
 pe=view&action=event&id=26943
CREATED:20260116T134519Z
LAST-MODIFIED:20260116T134519Z
UID:event-26943-cantonlocalathleticdepartment@intand.com
END:VEVENT
END:VCALENDAR
