BEGIN:VCALENDAR
VERSION:2.0
PRODID:-//Intand Corporation//Tandem//EN
METHOD:PUBLISH
BEGIN:VEVENT
DTSTAMP:20260419T143354Z
DTSTART:20260612T200000Z
DTEND:20260612T230000Z
TRANSP:TRANSPARENT
PRIORITY:0
SUMMARY: PAC Rental - Compass Dance Academy Rehearsal 
LOCATION:Canton South High School > Performing Arts Center
DESCRIPTION:Schools:\nCanton South High School\n\nLocation:\nCanton South 
 High School > Performing Arts Center\n\n
URL;VALUE=URI:http://arts.cantonlocalschooldistrict.tandem.co/index.php?ty
 pe=view&action=event&id=26980
CREATED:20260121T160036Z
LAST-MODIFIED:20260211T145211Z
UID:event-26980-cantonlocalathleticdepartment@intand.com
END:VEVENT
END:VCALENDAR
