BEGIN:VCALENDAR
VERSION:2.0
PRODID:-//Intand Corporation//Tandem//EN
METHOD:PUBLISH
BEGIN:VEVENT
DTSTAMP:20260419T174339Z
DTSTART:20260430T184500Z
DTEND:20260430T193000Z
TRANSP:TRANSPARENT
PRIORITY:0
SUMMARY:Aux Gym- Majorette Open Gym
LOCATION:Canton South High School > Auxiliary Gym
DESCRIPTION:Groups:\nCSHS Band\n\nSchools:\nCanton South High School\n\nLo
 cation:\nCanton South High School > Auxiliary Gym\n\n
URL;VALUE=URI:http://arts.cantonlocalschooldistrict.tandem.co/index.php?ty
 pe=view&action=event&id=27005
CREATED:20260123T124355Z
LAST-MODIFIED:20260123T124355Z
UID:event-27005-cantonlocalathleticdepartment@intand.com
END:VEVENT
END:VCALENDAR
