BEGIN:VCALENDAR
VERSION:2.0
PRODID:-//Intand Corporation//Tandem//EN
METHOD:PUBLISH
BEGIN:VEVENT
DTSTAMP:20260419T211352Z
DTSTART:20260608T130000Z
DTEND:20260608T160000Z
TRANSP:TRANSPARENT
PRIORITY:0
SUMMARY:FMES - Safety World
LOCATION:Faircrest Memorial Elementary School > Gym\, Faircrest Memorial E
 lementary School > Cafeteria
DESCRIPTION:Locations:\nFaircrest Memorial Elementary School > Gym\nFaircr
 est Memorial Elementary School > Cafeteria\n\nContacts:\nOfficer Ousley\n\
 n
URL;VALUE=URI:http://arts.cantonlocalschooldistrict.tandem.co/index.php?ty
 pe=view&action=event&id=27132
CREATED:20260204T163434Z
LAST-MODIFIED:20260204T163434Z
UID:event-27132-cantonlocalathleticdepartment@intand.com
END:VEVENT
END:VCALENDAR
