BEGIN:VCALENDAR
VERSION:2.0
PRODID:-//Intand Corporation//Tandem//EN
METHOD:PUBLISH
BEGIN:VEVENT
DTSTAMP:20260421T135537Z
DTSTART:20260313T184500Z
DTEND:20260313T213000Z
TRANSP:TRANSPARENT
PRIORITY:0
SUMMARY:PAC - HS Musical Practice
LOCATION:Canton South High School > Performing Arts Center
DESCRIPTION:Schools:\nCanton South High School\n\nLocation:\nCanton South 
 High School > Performing Arts Center\n\n
URL;VALUE=URI:http://arts.cantonlocalschooldistrict.tandem.co/index.php?ty
 pe=view&action=event&id=27543
CREATED:20260225T161811Z
LAST-MODIFIED:20260225T161811Z
UID:event-27543-cantonlocalathleticdepartment@intand.com
END:VEVENT
END:VCALENDAR
