BEGIN:VCALENDAR
VERSION:2.0
PRODID:-//Intand Corporation//Tandem//EN
METHOD:PUBLISH
BEGIN:VEVENT
DTSTAMP:20260419T143355Z
DTSTART;VALUE=DATE:20260820
DTEND;VALUE=DATE:20260821
TRANSP:TRANSPARENT
PRIORITY:0
SUMMARY:PAC - Tentative Speaker
LOCATION:Canton South High School > Performing Arts Center
DESCRIPTION:Schools:\nCanton South High School\n\nLocation:\nCanton South 
 High School > Performing Arts Center\n\n
URL;VALUE=URI:http://arts.cantonlocalschooldistrict.tandem.co/index.php?ty
 pe=view&action=event&id=27739
CREATED:20260324T155242Z
LAST-MODIFIED:20260324T155242Z
UID:event-27739-cantonlocalathleticdepartment@intand.com
END:VEVENT
END:VCALENDAR
