BEGIN:VCALENDAR
VERSION:2.0
PRODID:-//Intand Corporation//Tandem//EN
METHOD:PUBLISH
BEGIN:VEVENT
DTSTAMP:20260419T180356Z
DTSTART:20260507T220000Z
DTEND:20260507T230000Z
TRANSP:TRANSPARENT
PRIORITY:0
SUMMARY:Stadium- Mini Cats Soccer
LOCATION:Canton South High School > Brechbuhler Stadium
DESCRIPTION:Groups:\nYouth Soccer\n\nSchools:\nCanton South High School\n\
 nLocation:\nCanton South High School > Brechbuhler Stadium\n\n
URL;VALUE=URI:http://arts.cantonlocalschooldistrict.tandem.co/index.php?ty
 pe=view&action=event&id=27852
CREATED:20260409T155305Z
LAST-MODIFIED:20260409T155305Z
UID:event-27852-cantonlocalathleticdepartment@intand.com
END:VEVENT
END:VCALENDAR
