BEGIN:VCALENDAR
VERSION:2.0
PRODID:-//Intand Corporation//Tandem//EN
METHOD:PUBLISH
BEGIN:VEVENT
DTSTAMP:20260419T174526Z
DTSTART:20260419T130000Z
DTEND:20260419T170000Z
TRANSP:TRANSPARENT
PRIORITY:0
SUMMARY:FMES Classroom- Football Coaches Clinic
LOCATION:Faircrest Memorial Elementary School > FMES
DESCRIPTION:Groups:\nCanton S HS Football\n\nSchools:\nCanton South High S
 chool\nCanton South Middle School\n\nLocation:\nFaircrest Memorial Element
 ary School > FMES\n\n
URL;VALUE=URI:http://arts.cantonlocalschooldistrict.tandem.co/index.php?ty
 pe=view&action=event&id=27881
CREATED:20260417T180254Z
LAST-MODIFIED:20260417T180254Z
UID:event-27881-cantonlocalathleticdepartment@intand.com
END:VEVENT
END:VCALENDAR
